BEGIN:VCALENDAR
VERSION:2.0
CALSCALE:GREGORIAN
PRODID:adamgibbons/ics
METHOD:PUBLISH
X-PUBLISHED-TTL:PT1H
BEGIN:VEVENT
UID:6589@gancio.cisti.org
SUMMARY:Cinemino Clandestino 2/5 - The Yes Men Fix the World
DTSTAMP:20260419T215722Z
DTSTART:20260420T183000Z
DTEND:20260420T210000Z
URL:https://gancio.cisti.org/event/cinemino-clandestino-25-the-yes-men-fix-
	the-world
LOCATION:Salotto di Miranda - Via Buscalioni 17/21 Torino
STATUS:CONFIRMED
CATEGORIES:Rassegna cinematografica,torino
END:VEVENT
BEGIN:VEVENT
UID:6549@gancio.cisti.org
SUMMARY:PER LA RASSEGNA GIOVEDÌ GUERRA PROIEZIONE DEL FILM IL DOTTOR STRANA
	MORE
DTSTAMP:20260419T215722Z
DTSTART:20260423T190000Z
URL:https://gancio.cisti.org/event/per-la-rassegna-giovedi-guerra-proiezion
	e-del-film-il-dottor-stranamore
GEO:45.02343145;7.65609886065984
LOCATION:El Paso Occupato - Via Passo Buole\, 47\, Torino
STATUS:CONFIRMED
CATEGORIES:Rassegna cinematografica
END:VEVENT
BEGIN:VEVENT
UID:6550@gancio.cisti.org
SUMMARY:PER LA RASSEGNA GIOVEDÌ GUERRA PROIEZIONE DEL FILM VALZER CON BASHI
	R
DTSTAMP:20260419T215722Z
DTSTART:20260430T190000Z
URL:https://gancio.cisti.org/event/per-la-rassegna-giovedi-guerra-proiezion
	e-del-film-valzer-con-bashir
GEO:45.02343145;7.65609886065984
LOCATION:El Paso Occupato - Via Passo Buole\, 47\, Torino
STATUS:CONFIRMED
CATEGORIES:Rassegna cinematografica
END:VEVENT
BEGIN:VEVENT
UID:6591@gancio.cisti.org
SUMMARY:Cinemino Clandestino 4/5 - Exit Through the Gift Shop
DTSTAMP:20260419T215722Z
DTSTART:20260504T183000Z
DTEND:20260504T210000Z
URL:https://gancio.cisti.org/event/cinemino-clandestino-45-exit-through-the
	-gift-shop
LOCATION:Salotto di Miranda - Via Buscalioni 17/21 Torino
STATUS:CONFIRMED
CATEGORIES:Rassegna cinematografica,torino
END:VEVENT
BEGIN:VEVENT
UID:6592@gancio.cisti.org
SUMMARY:Cinemino Clandestino 5/5 - Good Copy Bad Copy
DTSTAMP:20260419T215722Z
DTSTART:20260511T183000Z
DTEND:20260511T210000Z
URL:https://gancio.cisti.org/event/cinemino-clandestino-45-good-copy-bad-co
	py
LOCATION:Salotto di Miranda - Via Buscalioni 17/21 Torino
STATUS:CONFIRMED
CATEGORIES:Rassegna cinematografica,torino
END:VEVENT
END:VCALENDAR
